Workbook

Sheet Pasqyra e Pozicionit Financiar
A1: “TODx” Shpk M12429026G
A2: PASQYRA E POZICIONIT FINANCIAR | B2: Periudha | C2: Periudha
B3: Raportuese | C3: Para ardhese
A4: AKTIVET
A5: Aktive afatshkurtra
A7: Mjete monetare | B7: 1787319 | C7: 1146610
A9: Te drejta te arketueshme dhe te tjera investime financiare
A10: Kerkesa te arketueshme afatshkurtra | B10: 250000 | C10: 2950000
A11: Te tjera te arketueshme
A12: Instrumenta te tjera financiare
A13: Te tjera aktive afatshkurtra (pershkruaj) | B13: =5396598+5542971+5483347+100-1688565-333 -> 14734118 | C13: =5396598+5483347+100-333 -> 10879712
A14: Shuma | B14: =SUM(B10:B13) -> 14984118 | C14: =SUM(C10:C13) -> 13829712
A16: Inventare
A17: Lende te para dhe materiale te konsumueshme
A18: Prodhim ne proces dhe gjysem produkte
A19: Produkte te gatshme
A20: Mallra per shitje
A21: Parapagesa per inventare
A22: Shuma | B22: =SUM(B17:B21) -> 0 | C22: =SUM(C17:C21) -> 0
A24: Shuma aktive afatshkurtra | B24: =+B22+B14+B7 -> 16771437 | C24: =+C22+C14+C7 -> 14976322
A26: Aktive afatgjata
A27: Aktive afatgjata financiare
A28: Depozita afatgjata, huadhenie dhe te tjera te ngjashme
A29: Deftesa te arketueshme dhe kliente afatgjate
A30: Shuma
A32: Aktive afatgjata materiale
A33: Toka dhe ndertesa
A34: Makineri dhe paisje
A35: Te tjera ne shfrytezim
A36: Shuma | B36: =SUM(B33:B35) -> 0 | C36: =SUM(C33:C35) -> 0
A38: Aktive afatgjata jomateriale
A39: Te tjera aktive afatgjata (pershkruaj)
A41: Shuma aktive afatgjata | B41: =+B39+B36 -> 0 | C41: =+C39+C36 -> 0
A43: TOTALI AKTIVEVE | B43: =+B24+B41 -> 16771437 | C43: =+C24+C41 -> 14976322
A45: DETYRIMET DHE KAPITALI
A46: Detyrime afatshkurtra
A47: Tituj te huamarrjes afatshkurter
A48: Te pagueshme per aktivitetin e shfrytezimit | B48: 0
A49: Te pagueshme ndaj punonjesve, kontribute dhe te tjera te ngjashme | B49: 41340 | C49: 89631
A50: Te pagueshme per detyrime tatimore
...

Sheet PASH-sipas natyres
A1: “TODx” Shpk M12429026G
A2: PASQYRA E TE ARDHURAVE DHE SHPENZIMEVE | B2: Periudha | C2: Periudha
B3: Raportuese | C3: Para ardhese
A4: (sipas natyres) - e detyrueshme
A6: Shitjet neto | B6: 5610432 | C6: 9342119
A7: Te ardhura te tjera nga veprimtarite e shfrytezimit
A8: Ndryshimet ne inventarin e produkteve te gateshme dhe punes ne proces
A9: Puna e kryer nga njesia ekonomike raportuese per qellimet e veta dhe e kapitalizuar
A10: Mallrat, lendet e para dhe sherbimet
A11: Shpenzime te tjera nga veprimtarite e shfrytezimit | B11: -2086546 | C11: -19829
A12: Shpenzime te personelit | B12: =SUM(B13:B14) -> -1680480 | C12: =SUM(C13:C14) -> -768310
A13: Pagat | B13: -1440000 | C13: -658363
A14: Shpenzimet e sigurimeve shoqerore dhe shendetsore | B14: -240480 | C14: -109947
A15: Amortizimi | B15: 0
A16: Shpenzime te tjera
A17: Fitimi/(humbja) nga veprimtarite e shfrytezimit | B17: =SUM(B6:B12,B15:B16) -> 1843406 | C17: =SUM(C6:C12,C15:C16) -> 8553980
A19: Te ardhura e shpenzime financiare
A20: Te ardhurat/(shpenzimet) nga interesi
A21: Fitime/(humbje) nga kurset e kembimit | B21: 0
A22: Te tjera te ardhura/(shpenzime) financiare
A23: Shuma | B23: =SUM(B20:B22) -> 0 | C23: =SUM(C20:C22) -> 0
A25: Fitimi/(humbja) para tatimit | B25: =+B17+B23 -> 1843406 | C25: =+C17+C23 -> 8553980
A26: Shpenzimet e tatimit mbi fitimin
A27: Fitimi/(humbja) neto e periudhes financiare | B27: =SUM(B25:B26) -> 1843406 | C27: =SUM(C25:C26) -> 8553980

Sheet PASH-sipas funksionit
A1: “TODx” Shpk M12429026G
A2: PASQYRA E TE ARDHURAVE DHE SHPENZIMEVE | B2: Periudha | C2: Periudha
B3: Raportuese | C3: Para ardhese
A4: (Sipas Funksionit) - per perdorim te drejtimit te shoqerise
A6: TE ARDHURAT
A7: Te ardhura nga aktiviteti kryesor
A8: Te ardhura te tjera
A9: Totali i te ardhurave
A11: SHPENZIMET
A12: Shpenzimet per materiale
A13: Inventari ne celje
A14: Blerje mallra gjate periudhes apo shpenzime per mallrat e prodhuara
A15: Inventari ne mbyllje
A17: Shpenzime personeli
A18: Pagat
... A28: Fitimi/(humbja) neto

Sheet Pasqyra CashFlow-direkte
A1: “TODx” Shpk M12429026G
A2: Pasqyra e fluksit te mjeteve monetare (opsionale) | B2: Periudha | C2: Periudha
B3: Raportuese | C3: Para ardhese
A4: Metoda direkte
A6: Fluksi mjeteve monetare nga/perdorur ne aktivitetin e shfrytezimit:
A7: Mjete monetare te arketuara nga klientet
A8: Mjete monetare te paguara ndaj furnitoreve dhe punonjesve
A9: Mjete monetare te arketuara nga veprimtari te tjera
A10: Pagesa te tjera
A11: Interes i paguar
A12: Tatim fitimi i paguar
A13: Mjete monetare neto nga/ perdorur ne aktivitetin e shfrytezimit
A15: Fluksi i mjeteve monetare nga/ perdorur ne aktivitetin e investimit
A16: Pagesa per blerjen e aktiveve afatgjata materiale
A17: Arketime nga shitja e aktiveve afatgjata materiale
... A35: Mjete monetare dhe ekuivalente me to ne fund

Sheet Pasqyra Cashflow-indirekte
A1: “TODx” Shpk M12429026G
A2: Pasqyra e fluksit te mjeteve monetare (opsionale) | B2: Periudha | C2: Periudha
B3: Raportuese | C3: Para ardhese
A4: Metoda indirekte
A6: Fluksi mjeteve monetare nga/perdorur ne aktivitetin e shfrytezimit:
A7: Fitimi/(Humbja) perpara tatimit | B7: =+'PASH-sipas natyres'!B25 -> 1843406 | C7: =+'PASH-sipas natyres'!C27 -> 8553980
A8: Rregullime per :
A9: Shpenzime amortizimi
A10: Humbje/(Fitime) nga konvertimi
A11: Shpenzimet financiare te perllogaritura
A12: Te ardhura nga investimet
A13: Humbja/(Fitimi) nga shitja e aktiveve afatgjata materiale
A14: Te tjera (pershkruaj)
A16: Ndryshim ne aktivet dhe detyrimet e shfrytezimit
A17: Renie/(Rritje) ne kerkesat e arketueshme nga aktiviteti dhe kerkesa te tjera | B17: =+'Pasqyra e Pozicionit Financiar'!C10-'Pasqyra e Pozicionit Financiar'!B10 -> 2700000 | C17: =+'Pasqyra e Pozicionit Financiar'!D10-'Pasqyra e Pozicionit Financiar'!C10 -> -2950000
A18: Renie/(Rritje) ne gjendjen e inventarit
A19: Rritje/(Renie) ne detyrime te pagueshme | B19: =+'Pasqyra e Pozicionit Financiar'!B53-'Pasqyra e Pozicionit Financiar'!C53 -> -48291 | C19: =+'Pasqyra e Pozicionit Financiar'!C49-'Pasqyra e Pozicionit Financiar'!D49 -> 89631
A20: Interes i paguar
A21: Tatim fitimi i paguar
A22: Mjete monetare neto nga/ perdorur ne aktivitetin e shfrytezimit | B22: =SUM(B7:B21) -> 4495115 | C22: =SUM(C7:C21) -> 5693611
A24: Fluksi i mjeteve monetare nga/ perdorur ne aktivitetin e investimit
A25: Pagesa per blerjen e aktiveve afatgjata materiale
A26: Arketime nga shitja e aktiveve afatgjata materiale
A27: Interes i arketuar
A28: Dividente te arketuar
A29: Te tjera (pershkruaj)
A30: Mjete monetare neto nga/perdorur ne aktivitetin e investimit
A32: Fluksi i mjeteve monetare nga/perdorur ne aktivitetin e financimit
A33: Arketime nga emetimi i kapitalit te nenshkruar
A34: Hua te arketuara
A35: Pagesa e huave
A36: Pagese e detyrimeve te qirase financiare
A37: Dividende te paguar
A38: Te tjera (pershkruaj) | B38: =+'Pasqyra e Pozicionit Financiar'!C13-'Pasqyra e Pozicionit Financiar'!B13 -> -3854406 | C38: =-'Pasqyra e Pozicionit Financiar'!C13+2621851+1146610*2 -> -5964641
A39: Mjete monetare neto nga/perdorur ne aktivitetin e financimit | B39: =SUM(B38) -> -3854406 | C39: =SUM(C38) -> -5964641
A41: Rritje/(renie) neto ne mjetet monetare dhe ekuivalente me to | B41: =+B39+B30+B22 -> 640709 | C41: =+C39+C30+C22 -> -271030
A42: Mjete monetare dhe ekuivalente me to ne fillim | B42: =+C46 -> 1146610
A43: Mjete monetare dhe ekuivalente me to ne fund | B43: =SUM(B41:B42) -> 1787319 | C43: =SUM(C41:C42) -> -271030
B46: 1787319 | C46: 1146610
